BEGIN:VCALENDAR
VERSION:2.0
PRODID:-//WACA Ground - ECPv6.15.20//NONSGML v1.0//EN
CALSCALE:GREGORIAN
METHOD:PUBLISH
X-ORIGINAL-URL:https://wacaground.com.au
X-WR-CALDESC:Events for WACA Ground
REFRESH-INTERVAL;VALUE=DURATION:PT1H
X-Robots-Tag:noindex
X-PUBLISHED-TTL:PT1H
BEGIN:VTIMEZONE
TZID:Asia/Shanghai
BEGIN:STANDARD
TZOFFSETFROM:+0800
TZOFFSETTO:+0800
TZNAME:CST
DTSTART:20250101T000000
END:STANDARD
END:VTIMEZONE
BEGIN:VEVENT
DTSTART;VALUE=DATE:20260306
DTEND;VALUE=DATE:20260310
DTSTAMP:20260425T194918
CREATED:20250311T033926Z
LAST-MODIFIED:20251125T025701Z
UID:4003-1772755200-1773100799@wacaground.com.au
SUMMARY:NRMA Insurance Women’s Test Match
DESCRIPTION:Match FixturesAustralia v IndiaAustralia’s all-conquering women return to the WACA Ground for a historic day-night Test match against India\, starting Friday 6 March 2026. \nThis will be the first day-night Test ever played at the Ground\, and the first international match following our state-of-the-art redevelopment. \nThe Australian Women’s team is yet to lose a Test at the WACA Ground\, trouncing South Africa by an innings and 284 runs when they last played red ball cricket at the venue in February 2024. \nInternational ticket pre-sale for fans who have registered begins on Tuesday 3 June 2025\, while general public tickets go on sale on Friday 13 June 2025. \nStay ahead of the game and register for priority access to tickets. \nFurther event information will be made available closer to the match.
URL:https://wacaground.com.au/event/nrma-insurance-womens-test-match/
LOCATION:WACA Ground\, WACA Ground\, Cnr Hay and Braithwaite Street\, Perth\, WA\, 6004\, Australia
CATEGORIES:International,Match Fixtures
ATTACH;FMTTYPE=image/jpeg:https://wacaground.com.au/wp-content/uploads/2025/03/GettyImages-2011794179-scaled.jpg
END:VEVENT
BEGIN:VEVENT
DTSTART;TZID=Asia/Shanghai:20260313T140000
DTEND;TZID=Asia/Shanghai:20260313T140000
DTSTAMP:20260425T194918
CREATED:20250814T072235Z
LAST-MODIFIED:20250815T020026Z
UID:4757-1773410400-1773410400@wacaground.com.au
SUMMARY:WNCL | WA v ACT
DESCRIPTION:Match Fixtures
URL:https://wacaground.com.au/event/wncl-wa-v-act/
LOCATION:WACA Ground\, WACA Ground\, Cnr Hay and Braithwaite Street\, Perth\, WA\, 6004\, Australia
CATEGORIES:Match Fixtures,WNCL
ATTACH;FMTTYPE=image/jpeg:https://wacaground.com.au/wp-content/uploads/2025/08/25017-waca-ground-website-assets_23_1000-x-1000.jpg
END:VEVENT
BEGIN:VEVENT
DTSTART;TZID=Asia/Shanghai:20260315T140000
DTEND;TZID=Asia/Shanghai:20260315T140000
DTSTAMP:20260425T194918
CREATED:20250814T072330Z
LAST-MODIFIED:20250815T020016Z
UID:4759-1773583200-1773583200@wacaground.com.au
SUMMARY:WNCL | WA v ACT
DESCRIPTION:Match Fixtures
URL:https://wacaground.com.au/event/wncl-wa-v-act-2/
LOCATION:WACA Ground\, WACA Ground\, Cnr Hay and Braithwaite Street\, Perth\, WA\, 6004\, Australia
CATEGORIES:Match Fixtures,WNCL
ATTACH;FMTTYPE=image/jpeg:https://wacaground.com.au/wp-content/uploads/2025/08/25017-waca-ground-website-assets_23_1000-x-1000.jpg
END:VEVENT
END:VCALENDAR