BEGIN:VCALENDAR
VERSION:2.0
PRODID:-//WACA Ground - ECPv6.15.20//NONSGML v1.0//EN
CALSCALE:GREGORIAN
METHOD:PUBLISH
X-WR-CALNAME:WACA Ground
X-ORIGINAL-URL:https://wacaground.com.au
X-WR-CALDESC:Events for WACA Ground
REFRESH-INTERVAL;VALUE=DURATION:PT1H
X-Robots-Tag:noindex
X-PUBLISHED-TTL:PT1H
BEGIN:VTIMEZONE
TZID:Asia/Shanghai
BEGIN:STANDARD
TZOFFSETFROM:+0800
TZOFFSETTO:+0800
TZNAME:CST
DTSTART:20240101T000000
END:STANDARD
END:VTIMEZONE
BEGIN:VTIMEZONE
TZID:Australia/Perth
BEGIN:STANDARD
TZOFFSETFROM:+0800
TZOFFSETTO:+0800
TZNAME:AWST
DTSTART:20240101T000000
END:STANDARD
END:VTIMEZONE
BEGIN:VEVENT
DTSTART;TZID=Asia/Shanghai:20260228T100000
DTEND;TZID=Asia/Shanghai:20260228T140000
DTSTAMP:20260425T212944
CREATED:20260211T052814Z
LAST-MODIFIED:20260226T085608Z
UID:5100-1772272800-1772287200@wacaground.com.au
SUMMARY:WACA Ground Community Open Day
DESCRIPTION:EventsWe’re looking forward to welcoming you to the WACA Ground Community Open Day on Saturday 28 February. Please review the important event information below to assist with planning your visit. \nGetting Here: \nAttendees are advised to check road closures in advance and plan their journey accordingly. We encourage attendees to travel via public transport. \nEvent Travel Information \n\nRoad Closure: Nelson Crescent will be closed from 6:00am- 5:30pm.\nPlease note parking is not available within the WACA Ground.\nSkip the traffic and take advantage of Perth’s transport options. Plan your journey via the Transperth Journey Planner.\nAttendees can also take the FREE RED CAT bus service directly to the WACA Ground. View the RED CAT timetable online to plan your trip.\n\nEntry: \nEntry for the WACA Ground Community Open Day will be located on the Corner of Nelson Crescent and Brathwaite Street. Attendees will be subject to a bag check upon arrival. \nWhat’s On: \n Player signings from 10:30am-11:15am\n Airbrush and glitter tattoos\n Classic Catch inflatable and on-field cricket activities\n Retail market stalls\n♫ DJ and live music entertainment\n Food trucks (Japanese\, Taiwanese\, Desserts\, Cotton Candy\, Bubble Tea)\n Bunnings Sausage sizzle supporting the WA Cricket Foundation\n Wirin cafe (open from 10:00am)\n WACA Ground food and beverage outlets (Farley Stand\, The Kiosk\, Langers Lounge)\n Membership offers and Perth Scorchers merchandise booth\n Guided WACA Ground Tours (separate booking required\, book here)\n Pool and Aquatic Sessions (separate booking required\, book here)\n Free giveaways and much more! \nPlease note the WACA Ground is a cashless venue. \nWe encourage attendees to explore the precinct and take part in the many activities on offer across the Ground. As this is an outdoor event\, attendees are encouraged to wear a hat\, apply sunscreen and stay hydrated throughout the day. \nWe look forward to welcoming you to the WACA Ground and sharing this exciting new chapter with the community. \nEVENT MAP
URL:https://wacaground.com.au/event/waca-ground-community-open-day/
LOCATION:WACA Ground\, WACA Ground\, Cnr Hay and Braithwaite Street\, Perth\, WA\, 6004\, Australia
CATEGORIES:Match Fixtures,Sheffield Shield
ATTACH;FMTTYPE=image/jpeg:https://wacaground.com.au/wp-content/uploads/2025/03/25017-waca-ground-website-assets_03_1200-x-800.jpg
END:VEVENT
BEGIN:VEVENT
DTSTART;TZID=Asia/Shanghai:20260221T140000
DTEND;TZID=Asia/Shanghai:20260221T140000
DTSTAMP:20260425T212944
CREATED:20250814T080704Z
LAST-MODIFIED:20250815T020124Z
UID:4777-1771682400-1771682400@wacaground.com.au
SUMMARY:One-Day Cup | WA v VIC
DESCRIPTION:Events
URL:https://wacaground.com.au/event/one-day-cup-wa-v-vic/
LOCATION:WACA Ground\, WACA Ground\, Cnr Hay and Braithwaite Street\, Perth\, WA\, 6004\, Australia
CATEGORIES:Match Fixtures,One-Day Cup
ATTACH;FMTTYPE=image/jpeg:https://wacaground.com.au/wp-content/uploads/2025/08/25017-waca-ground-website-assets_24_1000-x-1000.jpg
END:VEVENT
BEGIN:VEVENT
DTSTART;TZID=Asia/Shanghai:20260216T103000
DTEND;TZID=Asia/Shanghai:20260219T173000
DTSTAMP:20260425T212944
CREATED:20250814T080441Z
LAST-MODIFIED:20250815T020412Z
UID:4775-1771237800-1771522200@wacaground.com.au
SUMMARY:Sheffield Shield | WA v VIC
DESCRIPTION:Events
URL:https://wacaground.com.au/event/sheffield-shield-wa-v-vic/
LOCATION:WACA Ground\, WACA Ground\, Cnr Hay and Braithwaite Street\, Perth\, WA\, 6004\, Australia
CATEGORIES:Match Fixtures,Sheffield Shield
ATTACH;FMTTYPE=image/jpeg:https://wacaground.com.au/wp-content/uploads/2025/08/25017-waca-ground-website-assets_25_1000-x-1000.jpg
END:VEVENT
BEGIN:VEVENT
DTSTART;TZID=Asia/Shanghai:20260210T140000
DTEND;TZID=Asia/Shanghai:20260210T140000
DTSTAMP:20260425T212944
CREATED:20250814T080322Z
LAST-MODIFIED:20250815T020134Z
UID:4773-1770732000-1770732000@wacaground.com.au
SUMMARY:One-Day Cup | WA v TAS
DESCRIPTION:Events
URL:https://wacaground.com.au/event/one-day-cup-wa-v-tas/
LOCATION:WACA Ground\, WACA Ground\, Cnr Hay and Braithwaite Street\, Perth\, WA\, 6004\, Australia
CATEGORIES:Match Fixtures,One-Day Cup
ATTACH;FMTTYPE=image/jpeg:https://wacaground.com.au/wp-content/uploads/2025/08/25017-waca-ground-website-assets_24_1000-x-1000.jpg
END:VEVENT
BEGIN:VEVENT
DTSTART;TZID=Asia/Shanghai:20260205T103000
DTEND;TZID=Asia/Shanghai:20260208T173000
DTSTAMP:20260425T212944
CREATED:20250814T075353Z
LAST-MODIFIED:20250815T020422Z
UID:4771-1770287400-1770571800@wacaground.com.au
SUMMARY:Sheffield Shield | WA v TAS
DESCRIPTION:Events
URL:https://wacaground.com.au/event/sheffield-shield-wa-v-tas/
LOCATION:WACA Ground\, WACA Ground\, Cnr Hay and Braithwaite Street\, Perth\, WA\, 6004\, Australia
CATEGORIES:Match Fixtures,Sheffield Shield
ATTACH;FMTTYPE=image/jpeg:https://wacaground.com.au/wp-content/uploads/2025/08/25017-waca-ground-website-assets_25_1000-x-1000.jpg
END:VEVENT
BEGIN:VEVENT
DTSTART;TZID=Asia/Shanghai:20260110T140000
DTEND;TZID=Asia/Shanghai:20260110T140000
DTSTAMP:20260425T212944
CREATED:20250814T072137Z
LAST-MODIFIED:20250815T015928Z
UID:4755-1768053600-1768053600@wacaground.com.au
SUMMARY:WNCL | WA v SA
DESCRIPTION:Events
URL:https://wacaground.com.au/event/wncl-wa-v-sa-2/
LOCATION:WACA Ground\, WACA Ground\, Cnr Hay and Braithwaite Street\, Perth\, WA\, 6004\, Australia
CATEGORIES:Match Fixtures,WNCL
ATTACH;FMTTYPE=image/jpeg:https://wacaground.com.au/wp-content/uploads/2025/08/25017-waca-ground-website-assets_23_1000-x-1000.jpg
END:VEVENT
BEGIN:VEVENT
DTSTART;TZID=Asia/Shanghai:20260108T140000
DTEND;TZID=Asia/Shanghai:20260108T140000
DTSTAMP:20260425T212944
CREATED:20250814T070909Z
LAST-MODIFIED:20250815T015941Z
UID:4750-1767880800-1767880800@wacaground.com.au
SUMMARY:WNCL | WA v SA
DESCRIPTION:Events
URL:https://wacaground.com.au/event/wncl-wa-v-sa/
LOCATION:WACA Ground\, WACA Ground\, Cnr Hay and Braithwaite Street\, Perth\, WA\, 6004\, Australia
CATEGORIES:Match Fixtures,WNCL
ATTACH;FMTTYPE=image/jpeg:https://wacaground.com.au/wp-content/uploads/2025/08/25017-waca-ground-website-assets_23_1000-x-1000.jpg
END:VEVENT
BEGIN:VEVENT
DTSTART;TZID=Asia/Shanghai:20251206T161000
DTEND;TZID=Asia/Shanghai:20251206T161000
DTSTAMP:20260425T212944
CREATED:20250815T014818Z
LAST-MODIFIED:20250815T015315Z
UID:4800-1765037400-1765037400@wacaground.com.au
SUMMARY:WBBL | SCO v HEA
DESCRIPTION:EventsWeber Women’s Big Bash LeaguePerth Scorchers v Brisbane Heat
URL:https://wacaground.com.au/event/wbbl-sco-v-hea/
LOCATION:WACA Ground\, WACA Ground\, Cnr Hay and Braithwaite Street\, Perth\, WA\, 6004\, Australia
CATEGORIES:Match Fixtures,WBBL
ATTACH;FMTTYPE=image/jpeg:https://wacaground.com.au/wp-content/uploads/2025/08/25017-waca-ground-website-assets_29_1000-x-1000.jpg
END:VEVENT
BEGIN:VEVENT
DTSTART;TZID=Asia/Shanghai:20251202T171000
DTEND;TZID=Asia/Shanghai:20251202T171000
DTSTAMP:20260425T212944
CREATED:20250815T014721Z
LAST-MODIFIED:20250815T015320Z
UID:4801-1764695400-1764695400@wacaground.com.au
SUMMARY:WBBL | SCO v REN
DESCRIPTION:EventsWeber Women’s Big Bash LeaguePerth Scorchers v Melbourne Renegades
URL:https://wacaground.com.au/event/wbbl-sco-v-ren/
LOCATION:WACA Ground\, WACA Ground\, Cnr Hay and Braithwaite Street\, Perth\, WA\, 6004\, Australia
CATEGORIES:Match Fixtures,WBBL
ATTACH;FMTTYPE=image/jpeg:https://wacaground.com.au/wp-content/uploads/2025/08/25017-waca-ground-website-assets_29_1000-x-1000.jpg
END:VEVENT
BEGIN:VEVENT
DTSTART;TZID=Australia/Perth:20251122T175000
DTEND;TZID=Australia/Perth:20251122T175000
DTSTAMP:20260425T212944
CREATED:20251117T054242Z
LAST-MODIFIED:20251117T054319Z
UID:4838-1763833800-1763833800@wacaground.com.au
SUMMARY:Ashes by day. Big Bash by night. Fireworks to finish.
DESCRIPTION:Sat 22 Nov | The ultimate cricket party \nFind out more
URL:https://wacaground.com.au/event/ashes-by-day-big-bash-by-night-fireworks-to-finish/
LOCATION:WA
CATEGORIES:Special Events,WBBL
ATTACH;FMTTYPE=image/jpeg:https://wacaground.com.au/wp-content/uploads/2025/11/HRes_010_WAC_WBBL_WildWest_251109_LRiley-1200x800-1.jpg
END:VEVENT
BEGIN:VEVENT
DTSTART;TZID=Asia/Shanghai:20251122T175000
DTEND;TZID=Asia/Shanghai:20251122T175000
DTSTAMP:20260425T212944
CREATED:20250815T013951Z
LAST-MODIFIED:20250815T015206Z
UID:4791-1763833800-1763833800@wacaground.com.au
SUMMARY:WBBL | SCO v STR
DESCRIPTION:Weber Women’s Big Bash LeaguePerth Scorchers v Adelaide Strikers
URL:https://wacaground.com.au/event/wbbl-sco-v-str/
LOCATION:WACA Ground\, WACA Ground\, Cnr Hay and Braithwaite Street\, Perth\, WA\, 6004\, Australia
CATEGORIES:Match Fixtures,WBBL
ATTACH;FMTTYPE=image/jpeg:https://wacaground.com.au/wp-content/uploads/2025/08/25017-waca-ground-website-assets_29_1000-x-1000.jpg
END:VEVENT
BEGIN:VEVENT
DTSTART;TZID=Australia/Perth:20251120T120000
DTEND;TZID=Australia/Perth:20251120T150000
DTSTAMP:20260425T212944
CREATED:20251103T035520Z
LAST-MODIFIED:20251103T040621Z
UID:4816-1763640000-1763650800@wacaground.com.au
SUMMARY:The Bashes Charity Match
DESCRIPTION:Barmy Army vs Tony Galati’sThe Barmy Army is thrilled to announce that the first match of the 2025/26 Bashes series will take place at the legendary WACA Ground in Perth on Thursday\, 20th November 2025 starting at midday. \nThis year's series continues a proud tradition\, with Barmy Army CC facing an Australia Fans XI in a 5 Match T20 Series. The matches are typically played the day before each test match across the country during the Ashes tour. \nGates: 11:00am \nMatch Commences: 12:00pm \nMatch Finishes: 3:00pm \nBuy Tickets
URL:https://wacaground.com.au/event/the-bashes-charity-match/
LOCATION:WACA Ground\, WACA Ground\, Cnr Hay and Braithwaite Street\, Perth\, WA\, 6004\, Australia
CATEGORIES:Special Events
ATTACH;FMTTYPE=image/jpeg:https://wacaground.com.au/wp-content/uploads/2025/11/Barmy-Army-A670618627-1200x800-1.jpg
END:VEVENT
BEGIN:VEVENT
DTSTART;TZID=Asia/Shanghai:20251111T103000
DTEND;TZID=Asia/Shanghai:20251114T173000
DTSTAMP:20260425T212944
CREATED:20250814T073028Z
LAST-MODIFIED:20250815T020447Z
UID:4767-1762857000-1763141400@wacaground.com.au
SUMMARY:Sheffield Shield | WA v QLD
DESCRIPTION:Events
URL:https://wacaground.com.au/event/sheffield-shield-wa-v-qld/
LOCATION:WACA Ground\, WACA Ground\, Cnr Hay and Braithwaite Street\, Perth\, WA\, 6004\, Australia
CATEGORIES:Match Fixtures,Sheffield Shield
ATTACH;FMTTYPE=image/jpeg:https://wacaground.com.au/wp-content/uploads/2025/08/25017-waca-ground-website-assets_25_1000-x-1000.jpg
END:VEVENT
BEGIN:VEVENT
DTSTART;TZID=Asia/Shanghai:20251109T173000
DTEND;TZID=Asia/Shanghai:20251109T173000
DTSTAMP:20260425T212944
CREATED:20250815T013708Z
LAST-MODIFIED:20250815T015326Z
UID:4788-1762709400-1762709400@wacaground.com.au
SUMMARY:WBBL | SCO v SIX
DESCRIPTION:EventsWeber Women’s Big Bash LeaguePerth Scorchers v Sydney Sixers
URL:https://wacaground.com.au/event/wbbl-sco-v-six/
LOCATION:WACA Ground\, WACA Ground\, Cnr Hay and Braithwaite Street\, Perth\, WA\, 6004\, Australia
CATEGORIES:Match Fixtures,WBBL
ATTACH;FMTTYPE=image/jpeg:https://wacaground.com.au/wp-content/uploads/2025/08/25017-waca-ground-website-assets_29_1000-x-1000.jpg
END:VEVENT
BEGIN:VEVENT
DTSTART;TZID=Asia/Shanghai:20251028T103000
DTEND;TZID=Asia/Shanghai:20251031T173000
DTSTAMP:20260425T212944
CREATED:20250814T072912Z
LAST-MODIFIED:20250815T020438Z
UID:4765-1761647400-1761931800@wacaground.com.au
SUMMARY:Sheffield Shield | WA v SA
DESCRIPTION:Events
URL:https://wacaground.com.au/event/sheffield-shield-wa-v-sa/
LOCATION:WACA Ground\, WACA Ground\, Cnr Hay and Braithwaite Street\, Perth\, WA\, 6004\, Australia
CATEGORIES:Match Fixtures,Sheffield Shield
ATTACH;FMTTYPE=image/jpeg:https://wacaground.com.au/wp-content/uploads/2025/08/25017-waca-ground-website-assets_25_1000-x-1000.jpg
END:VEVENT
BEGIN:VEVENT
DTSTART;TZID=Asia/Shanghai:20251009T140000
DTEND;TZID=Asia/Shanghai:20251009T140000
DTSTAMP:20260425T212944
CREATED:20250814T072820Z
LAST-MODIFIED:20250815T020142Z
UID:4763-1760018400-1760018400@wacaground.com.au
SUMMARY:One-Day Cup | WA v NSW
DESCRIPTION:Events
URL:https://wacaground.com.au/event/one-day-cup-wa-v-nsw/
LOCATION:WACA Ground\, WACA Ground\, Cnr Hay and Braithwaite Street\, Perth\, WA\, 6004\, Australia
CATEGORIES:Match Fixtures,One-Day Cup
ATTACH;FMTTYPE=image/jpeg:https://wacaground.com.au/wp-content/uploads/2025/08/25017-waca-ground-website-assets_24_1000-x-1000.jpg
END:VEVENT
BEGIN:VEVENT
DTSTART;TZID=Asia/Shanghai:20251004T103000
DTEND;TZID=Asia/Shanghai:20251007T173000
DTSTAMP:20260425T212944
CREATED:20250814T072632Z
LAST-MODIFIED:20250815T020457Z
UID:4761-1759573800-1759858200@wacaground.com.au
SUMMARY:Sheffield Shield | WA v NSW
DESCRIPTION:Events
URL:https://wacaground.com.au/event/sheffield-shield-wa-v-nsw/
LOCATION:WACA Ground\, WACA Ground\, Cnr Hay and Braithwaite Street\, Perth\, WA\, 6004\, Australia
CATEGORIES:Match Fixtures,Sheffield Shield
ATTACH;FMTTYPE=image/jpeg:https://wacaground.com.au/wp-content/uploads/2025/08/25017-waca-ground-website-assets_25_1000-x-1000.jpg
END:VEVENT
BEGIN:VEVENT
DTSTART;TZID=Asia/Shanghai:20250926T140000
DTEND;TZID=Asia/Shanghai:20250926T140000
DTSTAMP:20260425T212944
CREATED:20250814T070124Z
LAST-MODIFIED:20250815T015953Z
UID:4748-1758895200-1758895200@wacaground.com.au
SUMMARY:WNCL | WA v QLD
DESCRIPTION:Events
URL:https://wacaground.com.au/event/wncl-wa-v-qld-2/
LOCATION:WACA Ground\, WACA Ground\, Cnr Hay and Braithwaite Street\, Perth\, WA\, 6004\, Australia
CATEGORIES:Match Fixtures,WNCL
ATTACH;FMTTYPE=image/jpeg:https://wacaground.com.au/wp-content/uploads/2025/08/25017-waca-ground-website-assets_23_1000-x-1000.jpg
END:VEVENT
BEGIN:VEVENT
DTSTART;TZID=Asia/Shanghai:20250924T140000
DTEND;TZID=Asia/Shanghai:20250924T140000
DTSTAMP:20260425T212944
CREATED:20250814T070023Z
LAST-MODIFIED:20250815T020005Z
UID:4746-1758722400-1758722400@wacaground.com.au
SUMMARY:WNCL | WA v QLD
DESCRIPTION:Events
URL:https://wacaground.com.au/event/wncl-wa-v-qld/
LOCATION:WACA Ground\, WACA Ground\, Cnr Hay and Braithwaite Street\, Perth\, WA\, 6004\, Australia
CATEGORIES:Match Fixtures,WNCL
ATTACH;FMTTYPE=image/jpeg:https://wacaground.com.au/wp-content/uploads/2025/08/25017-waca-ground-website-assets_23_1000-x-1000.jpg
END:VEVENT
END:VCALENDAR