BEGIN:VCALENDAR
VERSION:2.0
PRODID:-//WACA Ground - ECPv6.15.20//NONSGML v1.0//EN
CALSCALE:GREGORIAN
METHOD:PUBLISH
X-WR-CALNAME:WACA Ground
X-ORIGINAL-URL:https://wacaground.com.au
X-WR-CALDESC:Events for WACA Ground
REFRESH-INTERVAL;VALUE=DURATION:PT1H
X-Robots-Tag:noindex
X-PUBLISHED-TTL:PT1H
BEGIN:VTIMEZONE
TZID:Asia/Shanghai
BEGIN:STANDARD
TZOFFSETFROM:+0800
TZOFFSETTO:+0800
TZNAME:CST
DTSTART:20240101T000000
END:STANDARD
END:VTIMEZONE
BEGIN:VEVENT
DTSTART;TZID=Asia/Shanghai:20250926T140000
DTEND;TZID=Asia/Shanghai:20250926T140000
DTSTAMP:20260426T003429
CREATED:20250814T070124Z
LAST-MODIFIED:20250815T015953Z
UID:4748-1758895200-1758895200@wacaground.com.au
SUMMARY:WNCL | WA v QLD
DESCRIPTION:Events
URL:https://wacaground.com.au/event/wncl-wa-v-qld-2/
LOCATION:WACA Ground\, WACA Ground\, Cnr Hay and Braithwaite Street\, Perth\, WA\, 6004\, Australia
CATEGORIES:Match Fixtures,WNCL
ATTACH;FMTTYPE=image/jpeg:https://wacaground.com.au/wp-content/uploads/2025/08/25017-waca-ground-website-assets_23_1000-x-1000.jpg
END:VEVENT
BEGIN:VEVENT
DTSTART;TZID=Asia/Shanghai:20250924T140000
DTEND;TZID=Asia/Shanghai:20250924T140000
DTSTAMP:20260426T003429
CREATED:20250814T070023Z
LAST-MODIFIED:20250815T020005Z
UID:4746-1758722400-1758722400@wacaground.com.au
SUMMARY:WNCL | WA v QLD
DESCRIPTION:Events
URL:https://wacaground.com.au/event/wncl-wa-v-qld/
LOCATION:WACA Ground\, WACA Ground\, Cnr Hay and Braithwaite Street\, Perth\, WA\, 6004\, Australia
CATEGORIES:Match Fixtures,WNCL
ATTACH;FMTTYPE=image/jpeg:https://wacaground.com.au/wp-content/uploads/2025/08/25017-waca-ground-website-assets_23_1000-x-1000.jpg
END:VEVENT
END:VCALENDAR